BEGIN:VCALENDAR
VERSION:2.0
PRODID:-//Beachcomber Hotel &amp; Resort - ECPv6.2.0.1//NONSGML v1.0//EN
CALSCALE:GREGORIAN
METHOD:PUBLISH
X-WR-CALNAME:Beachcomber Hotel &amp; Resort
X-ORIGINAL-URL:https://beachcomberhotelandresort.com.au
X-WR-CALDESC:Events for Beachcomber Hotel &amp; Resort
REFRESH-INTERVAL;VALUE=DURATION:PT1H
X-Robots-Tag:noindex
X-PUBLISHED-TTL:PT1H
BEGIN:VTIMEZONE
TZID:Australia/Sydney
BEGIN:STANDARD
TZOFFSETFROM:+1100
TZOFFSETTO:+1000
TZNAME:AEST
DTSTART:20230401T160000
END:STANDARD
BEGIN:DAYLIGHT
TZOFFSETFROM:+1000
TZOFFSETTO:+1100
TZNAME:AEDT
DTSTART:20230930T160000
END:DAYLIGHT
END:VTIMEZONE
BEGIN:VEVENT
DTSTART;TZID=Australia/Sydney:20230825T180000
DTEND;TZID=Australia/Sydney:20230825T230000
DTSTAMP:20260426T051200
CREATED:20230801T005610Z
LAST-MODIFIED:20230801T005610Z
UID:10003320-1692986400-1693004400@beachcomberhotelandresort.com.au
SUMMARY:Wine Dinner at Pelicans
DESCRIPTION:[vc_row css=”.vc_custom_1664331499471{padding-top: 3% !important;padding-right: 0% !important;padding-bottom: 3% !important;padding-left: 0% !important;}”][vc_column]\n	  We invite you to an exclusive wine dinner\, hosted by Ballandean Estate Wines. Savour a bespoke 5-course menu\, each dish paired with a selection from Ballandean’s exquisite wine range. With limited seats available for this event\, don’t miss your opportunity to experience a memorable lakeside affair. Book your tickets today for an unforgettable evening at The Beachcomber Hotel & Resort. [/vc_column][/vc_row][vc_row css=”.vc_custom_1664331506489{padding-right: 0% !important;padding-bottom: 5% !important;padding-left: 0% !important;}”][vc_column]\n	\n		\n					Get Tickets\n			\n					\n\n[/vc_column][/vc_row]
URL:https://beachcomberhotelandresort.com.au/event/wine-dinner-at-pelicans-2/
CATEGORIES:Special Events
END:VEVENT
END:VCALENDAR