BEGIN:VCALENDAR
VERSION:2.0
PRODID:-//Beachcomber Hotel &amp; Resort - ECPv6.2.0.1//NONSGML v1.0//EN
CALSCALE:GREGORIAN
METHOD:PUBLISH
X-WR-CALNAME:Beachcomber Hotel &amp; Resort
X-ORIGINAL-URL:https://beachcomberhotelandresort.com.au
X-WR-CALDESC:Events for Beachcomber Hotel &amp; Resort
REFRESH-INTERVAL;VALUE=DURATION:PT1H
X-Robots-Tag:noindex
X-PUBLISHED-TTL:PT1H
BEGIN:VTIMEZONE
TZID:Australia/Sydney
BEGIN:STANDARD
TZOFFSETFROM:+1100
TZOFFSETTO:+1000
TZNAME:AEST
DTSTART:20230401T160000
END:STANDARD
BEGIN:DAYLIGHT
TZOFFSETFROM:+1000
TZOFFSETTO:+1100
TZNAME:AEDT
DTSTART:20230930T160000
END:DAYLIGHT
END:VTIMEZONE
BEGIN:VEVENT
DTSTART;TZID=Australia/Sydney:20231107T120000
DTEND;TZID=Australia/Sydney:20231107T180000
DTSTAMP:20260424T062458
CREATED:20230810T011421Z
LAST-MODIFIED:20231005T040148Z
UID:10003321-1699358400-1699380000@beachcomberhotelandresort.com.au
SUMMARY:Melbourne Cup
DESCRIPTION:[vc_row][vc_column width=”1/2″][vc_single_image image=”1829″ onclick=”custom_link”][vc_separator color=”custom” accent_color=”rgb(244\, 243\, 237)”][/vc_column][vc_column width=”1/2″][vc_column_text]What’s Included: \nYour $125 ticket includes both a luxurious 3-hour drinks package to keep the spirits high and a two-course alternate drop dining experience. \nThe Setting: \nWhat’s better than cheering for your favourite horse? Doing it alongside serene lakeside views! \nDress to Impress: \nGo all out! Get dolled up\, put on your most fabulous hat\, and be ready to strike a pose![/vc_column_text][vc_separator color=”custom” accent_color=”rgb(244\, 243\, 237)”]\n	\n		\n					Get Tickets!\n			\n					\n\n[/vc_column][/vc_row]
URL:https://beachcomberhotelandresort.com.au/event/melbourne-cup-2023/
CATEGORIES:Special Events
END:VEVENT
BEGIN:VEVENT
DTSTART;TZID=Australia/Sydney:20231112T170000
DTEND;TZID=Australia/Sydney:20231112T230000
DTSTAMP:20260424T062458
CREATED:20231109T022052Z
LAST-MODIFIED:20231109T022138Z
UID:10004717-1699808400-1699830000@beachcomberhotelandresort.com.au
SUMMARY:'LIV LOUD 23' With Touch Sensitive // Hellcat Speedracer // No Chasa
DESCRIPTION:[vc_row][vc_column width=”1/2″][vc_single_image image=”1930″ onclick=”custom_link”][vc_separator color=”custom” accent_color=”rgb(244\, 243\, 237)”][/vc_column][vc_column width=”1/2″][vc_column_text]Raise Your Glass to Rhythm: \nThis November 12 at The Beachcomber Hotel & Resort\, experience the pulse of LIV LOUD\, a sonic celebration amplified by the partnership of Carlton & United Breweries with Support Act for Aus Music T-Shirt Day. \nHeadliner Hype: \nPrepare for a sensory feast with the iconic Touch Sensitive at the helm\, supported by the high-octane Hellcat Speed Racer and the electrifying No Chasa. It’s a curated mix of beats and artistry set to light up the lakeside. \nCheers to the Cause: \nAs we toast with the first pour of Hard Solo on Tap\, each ticket pledges support to music professionals in need. Sport your favourite band tee and be part of the change with every melody.[/vc_column_text][vc_separator color=”custom” accent_color=”rgb(244\, 243\, 237)”]\n	\n		\n					Tickets: Buy 1 Get 1 Free\n			\n					\n\n[/vc_column][/vc_row]
URL:https://beachcomberhotelandresort.com.au/event/liv-loud-with-touch-sensitive/
CATEGORIES:Special Events
END:VEVENT
END:VCALENDAR