BEGIN:VCALENDAR
VERSION:2.0
PRODID:-//Beachcomber Hotel &amp; Resort - ECPv6.2.0.1//NONSGML v1.0//EN
CALSCALE:GREGORIAN
METHOD:PUBLISH
X-WR-CALNAME:Beachcomber Hotel &amp; Resort
X-ORIGINAL-URL:https://beachcomberhotelandresort.com.au
X-WR-CALDESC:Events for Beachcomber Hotel &amp; Resort
REFRESH-INTERVAL;VALUE=DURATION:PT1H
X-Robots-Tag:noindex
X-PUBLISHED-TTL:PT1H
BEGIN:VTIMEZONE
TZID:Australia/Sydney
BEGIN:STANDARD
TZOFFSETFROM:+1100
TZOFFSETTO:+1000
TZNAME:AEST
DTSTART:20230401T160000
END:STANDARD
BEGIN:DAYLIGHT
TZOFFSETFROM:+1000
TZOFFSETTO:+1100
TZNAME:AEDT
DTSTART:20230930T160000
END:DAYLIGHT
END:VTIMEZONE
BEGIN:VEVENT
DTSTART;TZID=Australia/Sydney:20231201T180000
DTEND;TZID=Australia/Sydney:20231201T230000
DTSTAMP:20260424T062502
CREATED:20231024T012800Z
LAST-MODIFIED:20231024T012800Z
UID:10004716-1701453600-1701471600@beachcomberhotelandresort.com.au
SUMMARY:Pelicans Gin Dinner W/ Four Pillars
DESCRIPTION:[vc_row][vc_column width=”1/2″][vc_single_image image=”1909″ onclick=”custom_link”][vc_separator color=”custom” accent_color=”rgb(244\, 243\, 237)”][/vc_column][vc_column width=”1/2″][vc_column_text]What’s On Your Plate: \nA 5-course culinary journey paired with hand-crafted Four Pillars cocktails. \nThe Scene: \nIndulge in gin and culinary delight with tranquil lakeside views at Pelicans. \nA Night to Remember: \nStart the night with a G&T\, savour each course\, and delve into the gin world with Four Pillars Brand Ambassador Sam Hulton. \nPrice: \nTickets $119 per person[/vc_column_text][vc_separator color=”custom” accent_color=”rgb(244\, 243\, 237)”]\n	\n		\n					Get Tickets!\n			\n					\n\n[/vc_column][/vc_row]
URL:https://beachcomberhotelandresort.com.au/event/pelicans-gin-dinner-w-four-pillars/
CATEGORIES:Special Events
END:VEVENT
BEGIN:VEVENT
DTSTART;TZID=Australia/Sydney:20231217T120000
DTEND;TZID=Australia/Sydney:20231217T150000
DTSTAMP:20260424T062502
CREATED:20231210T072426Z
LAST-MODIFIED:20231210T072426Z
UID:10004719-1702814400-1702825200@beachcomberhotelandresort.com.au
SUMMARY:Christmas Family Fun Day
DESCRIPTION:[vc_row][vc_column width=”1/2″][vc_single_image image=”1976″ onclick=”custom_link”][vc_separator color=”custom” accent_color=”rgb(244\, 243\, 237)”][/vc_column][vc_column width=”1/2″][vc_column_text]Join us on the 17th of December for a day filled with festive activities and exciting raffle prizes. The day consists of face painters\, balloon twister\, and a visit from Santa Claus. \nThe excitement continues with our Christmas Raffle\, where you stand a chance to win amazing prizes. Imagine the thrill of winning a PlayStation 5\, or a Nintendo Switch\, perfect for family fun with Mario Kart 8. Alongside these top-tier prizes\, there are many more gifts waiting to be won\, from toys and gadgets to festive surprises\, ensuring a memorable day for everyone. \nCome and be part of a day filled with joy\, laughter\, and the festive spirit\, making this Christmas an unforgettable experience for the whole family![/vc_column_text][vc_separator color=”custom” accent_color=”rgb(244\, 243\, 237)”]\n	\n		\n					Book a table\n			\n					\n\n[/vc_column][/vc_row]
URL:https://beachcomberhotelandresort.com.au/event/christmas-family-fun-day/
CATEGORIES:Special Events
END:VEVENT
END:VCALENDAR