BEGIN:VCALENDAR
VERSION:2.0
PRODID:-//Beachcomber Hotel &amp; Resort - ECPv6.2.0.1//NONSGML v1.0//EN
CALSCALE:GREGORIAN
METHOD:PUBLISH
X-ORIGINAL-URL:https://beachcomberhotelandresort.com.au
X-WR-CALDESC:Events for Beachcomber Hotel &amp; Resort
REFRESH-INTERVAL;VALUE=DURATION:PT1H
X-Robots-Tag:noindex
X-PUBLISHED-TTL:PT1H
BEGIN:VTIMEZONE
TZID:Australia/Sydney
BEGIN:STANDARD
TZOFFSETFROM:+1100
TZOFFSETTO:+1000
TZNAME:AEST
DTSTART:20240406T160000
END:STANDARD
BEGIN:DAYLIGHT
TZOFFSETFROM:+1000
TZOFFSETTO:+1100
TZNAME:AEDT
DTSTART:20241005T160000
END:DAYLIGHT
END:VTIMEZONE
BEGIN:VEVENT
DTSTART;TZID=Australia/Sydney:20240329T120000
DTEND;TZID=Australia/Sydney:20240401T003000
DTSTAMP:20260423T043859
CREATED:20240305T013743Z
LAST-MODIFIED:20240326T114642Z
UID:10004725-1711713600-1711931400@beachcomberhotelandresort.com.au
SUMMARY:EASTER LONG WEEKEND
DESCRIPTION:[vc_row css=”.vc_custom_1664331499471{padding-top: 3% !important;padding-right: 0% !important;padding-bottom: 3% !important;padding-left: 0% !important;}”][vc_column width=”1/2″][vc_single_image image=”2096″][/vc_column][vc_column width=”1/2″]\n	  The Beachie is the place to be for an unforgettable Easter Long Weekend! Gather your family and friends for a time filled with entertainment\, joy\, and the spirit of Easter. Start with Friday’s live music and seafood specials\, then move to Saturday’s fun with a jumping castle\, balloon twister\, and face painter. The celebration peaks on Sunday with an Easter egg hunt and a special visit from the Easter Bunny\, plus more face painting! \n	\n		\n					Book a Table\n			\n					\n\n[/vc_column][/vc_row]
URL:https://beachcomberhotelandresort.com.au/event/easter-long-weekend/
CATEGORIES:Special Events
END:VEVENT
BEGIN:VEVENT
DTSTART;TZID=Australia/Sydney:20240417T100000
DTEND;TZID=Australia/Sydney:20240424T130000
DTSTAMP:20260423T043859
CREATED:20240410T104340Z
LAST-MODIFIED:20240412T015035Z
UID:10004728-1713348000-1713963600@beachcomberhotelandresort.com.au
SUMMARY:Little Adventures at The Beachie
DESCRIPTION:[vc_row css=”.vc_custom_1664331499471{padding-top: 3% !important;padding-right: 0% !important;padding-bottom: 3% !important;padding-left: 0% !important;}”][vc_column width=”1/2″][vc_single_image image=”2123″][/vc_column][vc_column width=”1/2″]\n	  KIDS APRIL SCHOOL HOLIDAY FUN \n	  Prepare the kids for a holiday bursting with creativity and joy with Little Adventures at The Beachie! We’re here to make sure your break is filled with laughter and ease\, taking the holiday hassle off your hands. \n	  BUILD-A-BEAR WORKSHOP 🐻 \n	  Two one-hour workshop classes available:\nWednesday\, 17th April from 10:00 AM to 1:00 PM\nPrice: $25 (includes a kids’ meal and soft drink) \n	  ART STUDIO WORKSHOP 🎨 \n	  Two one-hour workshop classes available:\nWednesday\, 24th April from 10:00 AM to 1:00 PM\nPrice: $25 (includes a kids’ meal and soft drink) [vc_separator color=”custom” accent_color=”rgb(244\, 243\, 237)”]\n	\n		\n					Get your Tickets\n			\n					\n\n[/vc_column][/vc_row]
URL:https://beachcomberhotelandresort.com.au/event/little-adventures-at-the-beachie-apr/
CATEGORIES:Special Events
END:VEVENT
BEGIN:VEVENT
DTSTART;TZID=Australia/Sydney:20240425T120000
DTEND;TZID=Australia/Sydney:20240425T200000
DTSTAMP:20260423T043900
CREATED:20240405T000514Z
LAST-MODIFIED:20240405T000514Z
UID:10004727-1714046400-1714075200@beachcomberhotelandresort.com.au
SUMMARY:ANZAC Day at The Beachie
DESCRIPTION:[vc_row css=”.vc_custom_1664331499471{padding-top: 3% !important;padding-right: 0% !important;padding-bottom: 3% !important;padding-left: 0% !important;}”][vc_column]\n	  Dive into the ultimate ANZAC Day at The Beachie! 🌹 \nWe’re hosting the Central Coast’s largest lakeside Two-Up arena\, complemented by a sausage sizzle and grandstands for premium views. From 1pm to 8pm\, immerse yourself in a day of live music\, alongside family-friendly fun with a jumping castle for the kids. \nJoin us to honour this special day with entertainment\, joy\, and community spirit. \n	\n		\n					Book a Table\n			\n					\n\n[/vc_column][/vc_row]
URL:https://beachcomberhotelandresort.com.au/event/anzac-day-2024/
CATEGORIES:Special Events
ATTACH;FMTTYPE=image/jpeg:https://beachcomberhotelandresort.com.au/wp-content/uploads/2024/04/Beachie-AnzacDay-24-FB-scaled.jpg
END:VEVENT
END:VCALENDAR