BEGIN:VCALENDAR
VERSION:2.0
PRODID:-//Beachcomber Hotel &amp; Resort - ECPv6.2.0.1//NONSGML v1.0//EN
CALSCALE:GREGORIAN
METHOD:PUBLISH
X-WR-CALNAME:Beachcomber Hotel &amp; Resort
X-ORIGINAL-URL:https://beachcomberhotelandresort.com.au
X-WR-CALDESC:Events for Beachcomber Hotel &amp; Resort
REFRESH-INTERVAL;VALUE=DURATION:PT1H
X-Robots-Tag:noindex
X-PUBLISHED-TTL:PT1H
BEGIN:VTIMEZONE
TZID:Australia/Sydney
BEGIN:STANDARD
TZOFFSETFROM:+1100
TZOFFSETTO:+1000
TZNAME:AEST
DTSTART:20240406T160000
END:STANDARD
BEGIN:DAYLIGHT
TZOFFSETFROM:+1000
TZOFFSETTO:+1100
TZNAME:AEDT
DTSTART:20241005T160000
END:DAYLIGHT
END:VTIMEZONE
BEGIN:VEVENT
DTSTART;TZID=Australia/Sydney:20241003T110000
DTEND;TZID=Australia/Sydney:20241010T123000
DTSTAMP:20260422T043012
CREATED:20240919T015601Z
LAST-MODIFIED:20240919T042431Z
UID:10004733-1727953200-1728563400@beachcomberhotelandresort.com.au
SUMMARY:October School Holiday Activities
DESCRIPTION:[vc_row css=”.vc_custom_1664331499471{padding-top: 3% !important;padding-right: 0% !important;padding-bottom: 3% !important;padding-left: 0% !important;}”][vc_column width=”1/2″][vc_single_image image=”2295″][/vc_column][vc_column width=”1/2″]\n	  KIDS WORKSHOP ACTIVITIES \n	  Make the October school holidays memorable at the Beachie with our school holiday workshop activities! We have creative and fun filled activities to keep the kids entertained\, while you relax. \n	  COOKIE DECORATING WORKSHOP 🍪🧁 \n	  Date: Thursday\, 3rd October | 11:00am to 12:30pm \nPrice: $25.00 \nIn the 1 hour workshop\, kids will have a blast decorating their own cookies and cupcakes with a variety of toppings. Afterward they’ll enjoy 30 mins of games and get to take home a box of creations! \n	  BUILD-A-BEAR WORKSHOP 🐻 \n	  Date: Thursday\, 10th October | 11:00am to 12:30pm \nPrice: $25.00 \nIn the 1 hour workshop\, where they get to create their own personalised teddy bear. The session includes 30 mins of games\, and each child will take their very own cuddly bear as a keepsake. \n	  Both workshops include all materials\, games\, and take-home goodies\, making it a perfect day of creativity and fun! Book now to secure your child’s spot for an unforgettable holiday experience at The Beachie! \n	\n		\n					Get your Tickets\n			\n					\n\n[/vc_column][/vc_row]
URL:https://beachcomberhotelandresort.com.au/event/october-school-holiday-activities/
CATEGORIES:Special Events
END:VEVENT
END:VCALENDAR