BEGIN:VCALENDAR
VERSION:2.0
PRODID:-//Beachcomber Hotel &amp; Resort - ECPv6.2.0.1//NONSGML v1.0//EN
CALSCALE:GREGORIAN
METHOD:PUBLISH
X-WR-CALNAME:Beachcomber Hotel &amp; Resort
X-ORIGINAL-URL:https://beachcomberhotelandresort.com.au
X-WR-CALDESC:Events for Beachcomber Hotel &amp; Resort
REFRESH-INTERVAL;VALUE=DURATION:PT1H
X-Robots-Tag:noindex
X-PUBLISHED-TTL:PT1H
BEGIN:VTIMEZONE
TZID:Australia/Sydney
BEGIN:STANDARD
TZOFFSETFROM:+1100
TZOFFSETTO:+1000
TZNAME:AEST
DTSTART:20230401T160000
END:STANDARD
BEGIN:DAYLIGHT
TZOFFSETFROM:+1000
TZOFFSETTO:+1100
TZNAME:AEDT
DTSTART:20230930T160000
END:DAYLIGHT
END:VTIMEZONE
BEGIN:VEVENT
DTSTART;TZID=Australia/Sydney:20230928T100000
DTEND;TZID=Australia/Sydney:20230928T130000
DTSTAMP:20260426T002604
CREATED:20230922T042931Z
LAST-MODIFIED:20230922T043714Z
UID:10003863-1695895200-1695906000@beachcomberhotelandresort.com.au
SUMMARY:Little Adventures | Build-A-Bear Workshop
DESCRIPTION:[vc_row css=”.vc_custom_1664331499471{padding-top: 3% !important;padding-right: 0% !important;padding-bottom: 3% !important;padding-left: 0% !important;}”][vc_column]\n	  Prep the kids for a holiday bursting with creativity and joy… Little Adventures at The Beachie! At The Beachie\, we’re here to ensure your break is filled with laughter and ease\, taking the holiday hassle off your hands. \n  \nBUILD-A-BEAR WORKSHOP 🐻 \n2x Workshops from 10:00am to 1:00pm Thursday\, 28th September \nPrice: $25 (Includes a kids meal + soft drink) [/vc_column][/vc_row][vc_row css=”.vc_custom_1664331506489{padding-right: 0% !important;padding-bottom: 5% !important;padding-left: 0% !important;}”][vc_column]\n	\n		\n					Get Tickets\n			\n					\n\n[/vc_column][/vc_row]
URL:https://beachcomberhotelandresort.com.au/event/little-adventures-build-a-bear-workshop-2/
CATEGORIES:Special Events
END:VEVENT
END:VCALENDAR