BEGIN:VCALENDAR
VERSION:2.0
PRODID:-//Beachcomber Hotel &amp; Resort - ECPv6.2.0.1//NONSGML v1.0//EN
CALSCALE:GREGORIAN
METHOD:PUBLISH
X-WR-CALNAME:Beachcomber Hotel &amp; Resort
X-ORIGINAL-URL:https://beachcomberhotelandresort.com.au
X-WR-CALDESC:Events for Beachcomber Hotel &amp; Resort
REFRESH-INTERVAL;VALUE=DURATION:PT1H
X-Robots-Tag:noindex
X-PUBLISHED-TTL:PT1H
BEGIN:VTIMEZONE
TZID:Australia/Sydney
BEGIN:STANDARD
TZOFFSETFROM:+1100
TZOFFSETTO:+1000
TZNAME:AEST
DTSTART:20230401T160000
END:STANDARD
BEGIN:DAYLIGHT
TZOFFSETFROM:+1000
TZOFFSETTO:+1100
TZNAME:AEDT
DTSTART:20230930T160000
END:DAYLIGHT
END:VTIMEZONE
BEGIN:VEVENT
DTSTART;TZID=Australia/Sydney:20231001T180000
DTEND;TZID=Australia/Sydney:20231002T003000
DTSTAMP:20260426T014936
CREATED:20230919T233421Z
LAST-MODIFIED:20230922T063406Z
UID:10003859-1696183200-1696206600@beachcomberhotelandresort.com.au
SUMMARY:Good As October Long Weekend
DESCRIPTION:[vc_row css=”.vc_custom_1664331499471{padding-top: 3% !important;padding-right: 0% !important;padding-bottom: 3% !important;padding-left: 0% !important;}”][vc_column]\n	  GOOD AS IS BACK AT THE BEACHIE! \n  \nJoin us for the big long weekend vibes! Good As is back at The Beachie for another banger featuring Groove City\, Sgt Slick\, Stacie Fields\, and Tenzin stopping by to get things popping! \n  \nRound up your crew\, this one’s going to be epic! [/vc_column][/vc_row][vc_row css=”.vc_custom_1664331506489{padding-right: 0% !important;padding-bottom: 5% !important;padding-left: 0% !important;}”][vc_column]\n	\n		\n					Get Tickets\n			\n					\n\n[/vc_column][/vc_row]
URL:https://beachcomberhotelandresort.com.au/event/good-as-oct-long-weekend/
CATEGORIES:Special Events
END:VEVENT
END:VCALENDAR