BEGIN:VCALENDAR
VERSION:2.0
PRODID:-//Beachcomber Hotel &amp; Resort - ECPv6.2.0.1//NONSGML v1.0//EN
CALSCALE:GREGORIAN
METHOD:PUBLISH
X-WR-CALNAME:Beachcomber Hotel &amp; Resort
X-ORIGINAL-URL:https://beachcomberhotelandresort.com.au
X-WR-CALDESC:Events for Beachcomber Hotel &amp; Resort
REFRESH-INTERVAL;VALUE=DURATION:PT1H
X-Robots-Tag:noindex
X-PUBLISHED-TTL:PT1H
BEGIN:VTIMEZONE
TZID:Australia/Sydney
BEGIN:STANDARD
TZOFFSETFROM:+1100
TZOFFSETTO:+1000
TZNAME:AEST
DTSTART:20240406T160000
END:STANDARD
BEGIN:DAYLIGHT
TZOFFSETFROM:+1000
TZOFFSETTO:+1100
TZNAME:AEDT
DTSTART:20241005T160000
END:DAYLIGHT
END:VTIMEZONE
BEGIN:VEVENT
DTSTART;TZID=Australia/Sydney:20241105T120000
DTEND;TZID=Australia/Sydney:20241105T180000
DTSTAMP:20260422T065519
CREATED:20241009T050530Z
LAST-MODIFIED:20241009T051835Z
UID:10004735-1730808000-1730829600@beachcomberhotelandresort.com.au
SUMMARY:Melbourne Cup
DESCRIPTION:[vc_row][vc_column width=”1/2″][vc_single_image image=”2317″ onclick=”custom_link”][vc_separator color=”custom” accent_color=”rgb(244\, 243\, 237)”][/vc_column][vc_column width=”1/2″][vc_column_text]Melbourne Cup 2024 at The Beachie: \nSecure a booking of 8 or more in our sports bar or patio for the ultimate Melbourne Cup viewing experience. Feel the excitement and thrills of Cup Day the way its meant to be enjoyed – surrounded by friends\, food\, and races! \nFood Selection: \nEnhance your Cup Day with one of our delicious food boards\, and with each board your receive a complimentary bottle of sparkling for the table.  \n\nCharcuterie Board – $200\nCanapé Platter – $240\n\nDress to Impress: \nIt’s the Melbourne Cup – go all out! Put on your most fabulous hat\, get dolled up and get ready to strike a pose in your race-day best! \nHow to book: \nTo secure your spot\, book now by contacting events@beachcomberhotelandresort.com.au. Be quick\, as tables are limited and will fill up fast![/vc_column_text][vc_separator color=”custom” accent_color=”rgb(244\, 243\, 237)”]\n	\n		\n					Book Now!\n			\n					\n\n[/vc_column][/vc_row]
URL:https://beachcomberhotelandresort.com.au/event/melbourne-cup-2024/
CATEGORIES:Special Events
END:VEVENT
END:VCALENDAR